BEGIN:VCALENDAR
VERSION:2.0
PRODID:-//A.C.R. Messina - ECPv6.15.20//NONSGML v1.0//EN
CALSCALE:GREGORIAN
METHOD:PUBLISH
X-WR-CALNAME:A.C.R. Messina
X-ORIGINAL-URL:https://acrmessina1900.com
X-WR-CALDESC:Events for A.C.R. Messina
REFRESH-INTERVAL;VALUE=DURATION:PT1H
X-Robots-Tag:noindex
X-PUBLISHED-TTL:PT1H
BEGIN:VTIMEZONE
TZID:Europe/Helsinki
BEGIN:DAYLIGHT
TZOFFSETFROM:+0200
TZOFFSETTO:+0300
TZNAME:EEST
DTSTART:20250330T010000
END:DAYLIGHT
BEGIN:STANDARD
TZOFFSETFROM:+0300
TZOFFSETTO:+0200
TZNAME:EET
DTSTART:20251026T010000
END:STANDARD
BEGIN:DAYLIGHT
TZOFFSETFROM:+0200
TZOFFSETTO:+0300
TZNAME:EEST
DTSTART:20260329T010000
END:DAYLIGHT
BEGIN:STANDARD
TZOFFSETFROM:+0300
TZOFFSETTO:+0200
TZNAME:EET
DTSTART:20261025T010000
END:STANDARD
BEGIN:DAYLIGHT
TZOFFSETFROM:+0200
TZOFFSETTO:+0300
TZNAME:EEST
DTSTART:20270328T010000
END:DAYLIGHT
BEGIN:STANDARD
TZOFFSETFROM:+0300
TZOFFSETTO:+0200
TZNAME:EET
DTSTART:20271031T010000
END:STANDARD
END:VTIMEZONE
BEGIN:VEVENT
DTSTART;VALUE=DATE:20260410
DTEND;VALUE=DATE:20260701
DTSTAMP:20260422T140816
CREATED:20260416T033637Z
LAST-MODIFIED:20260421T031808Z
UID:8286-1775779200-1782863999@acrmessina1900.com
SUMMARY:Youth Sector
DESCRIPTION:Join the Future of ACR Messina\n\nACR Messina is preparing for next season and we are now collecting expressions of interest for players wishing to join our junior squads. \nFamilies can register their child’s details now\, and our team will be in contact once the current season has concluded and the next phase of registrations begins. \nThis is the perfect opportunity for young players and families to connect early with the club and stay updated on upcoming youth team opportunities. \n\nAvailable Age Groups\nACR Messina follows the Italian youth development structure\, giving young players a clear pathway into the club environment. \n\n\n\nPulcini\nTechnical foundation\n9–11 years\nU10–U11\n\n\nEsordienti\nGame development\n11–13 years\nU12–U13\n\n\nGiovanissimi\nCompetitive growth\n13–15 years\nU14–U15\n\n\n\n\nAllievi\nPerformance stage\n15–17 years\nU16–U17\n\n\nJuniores / Primavera\nPathway to senior team\n17–19 years\nU18–U19
URL:https://acrmessina1900.com/event/youth-sector/
LOCATION:San Filippo-Franco Scoglio Stadium\, Contrada San Filippo\, 98125 San Filippo ME\, Italy\, Metropolitan City of Messina\, 98125\, Italy
CATEGORIES:EVENTS,REGISTRATIONS
ATTACH;FMTTYPE=image/jpeg:https://acrmessina1900.com/wp-content/uploads/2026/04/ACR-MESSINA-Youth-Sector-1-scaled.jpg
END:VEVENT
BEGIN:VEVENT
DTSTART;TZID=Europe/Helsinki:20260613T080000
DTEND;TZID=Europe/Helsinki:20260614T180000
DTSTAMP:20260422T140816
CREATED:20260421T035128Z
LAST-MODIFIED:20260422T013615Z
UID:8409-1781337600-1781460000@acrmessina1900.com
SUMMARY:ORLANDO GLOBAL ID DRAFT – JUNE 2026
DESCRIPTION:The ACR Messina Global ID Draft continues its U.S. expansion with a key stop in Orlando bringing elite European scouting and development directly to aspiring players. \nThis two-day draft event is built for serious players looking to test themselves in a professional-level environment. Delivered by official ACR Messina staff\, sessions are structured to mirror the intensity\, expectations\, and tactical demands of the European game. \nPlayers will be evaluated across multiple areas\, with standout performers progressing into further international opportunities. \nEvent Details\nJune 13 & June 14\nSofive Soccer Centers Lake Nona\n12314 Suttner Ave\, Orlando\, FL\nJune 13: 9:00am – 12:00pm\nJune 14: 3:00pm – 6:00pm\nWhat to Expect\n\n\nProfessional training environment \n\n\nAdvanced technical and tactical sessions \n\n\nCompetitive match scenarios \n\n\nDirect scouting and evaluation \n\n\nPathway Opportunity\nThe Global ID Draft is part of ACR Messina’s international pathway\, connecting players in the United States to opportunities within Italy and Europe. \nThis is your chance to step into a global football network and be seen on an international stage.
URL:https://acrmessina1900.com/event/orlando-global-id-draft-june-2026/
LOCATION:Sofive Soccer Centers Lake Nona\, 12314 Suttner Ave\, Orlando\, FL\, Florida\, 12314\, United States
CATEGORIES:EVENTS,GLOBAL ID DRAFT USA
ATTACH;FMTTYPE=image/jpeg:https://acrmessina1900.com/wp-content/uploads/2026/04/ACR-MESSINA-ID-DRAFT-1-scaled.jpg
END:VEVENT
END:VCALENDAR