BEGIN:VCALENDAR
VERSION:2.0
PRODID:-//A.C.R. Messina - ECPv6.15.20//NONSGML v1.0//EN
CALSCALE:GREGORIAN
METHOD:PUBLISH
X-WR-CALNAME:A.C.R. Messina
X-ORIGINAL-URL:https://acrmessina1900.com
X-WR-CALDESC:Events for A.C.R. Messina
REFRESH-INTERVAL;VALUE=DURATION:PT1H
X-Robots-Tag:noindex
X-PUBLISHED-TTL:PT1H
BEGIN:VTIMEZONE
TZID:Europe/Helsinki
BEGIN:DAYLIGHT
TZOFFSETFROM:+0200
TZOFFSETTO:+0300
TZNAME:EEST
DTSTART:20250330T010000
END:DAYLIGHT
BEGIN:STANDARD
TZOFFSETFROM:+0300
TZOFFSETTO:+0200
TZNAME:EET
DTSTART:20251026T010000
END:STANDARD
BEGIN:DAYLIGHT
TZOFFSETFROM:+0200
TZOFFSETTO:+0300
TZNAME:EEST
DTSTART:20260329T010000
END:DAYLIGHT
BEGIN:STANDARD
TZOFFSETFROM:+0300
TZOFFSETTO:+0200
TZNAME:EET
DTSTART:20261025T010000
END:STANDARD
BEGIN:DAYLIGHT
TZOFFSETFROM:+0200
TZOFFSETTO:+0300
TZNAME:EEST
DTSTART:20270328T010000
END:DAYLIGHT
BEGIN:STANDARD
TZOFFSETFROM:+0300
TZOFFSETTO:+0200
TZNAME:EET
DTSTART:20271031T010000
END:STANDARD
END:VTIMEZONE
BEGIN:VEVENT
DTSTART;TZID=Europe/Helsinki:20260529T090000
DTEND;TZID=Europe/Helsinki:20260530T120000
DTSTAMP:20260423T121832
CREATED:20260311T011606Z
LAST-MODIFIED:20260423T054046Z
UID:8017-1780045200-1780142400@acrmessina1900.com
SUMMARY:NEW YORK GLOBAL ID DRAFT - MAY 2026
DESCRIPTION:USA • New York\nMay 29 & May 30\n679 Riverside Drive\nNew York\, NY 10031\nMay 29: 2-Day Draft\nMay 30: 2-Day Draft\n$160 USD – $99 Early Bird Cost
URL:https://acrmessina1900.com/event/global-id-draft-new-york/
LOCATION:679 RIVERSIDE DRIVE\, NEW YORK\, NY 10031\, 679 RIVERSIDE DRIVE\, NEW YORK\, NY 10031\, United States
CATEGORIES:EVENTS,GLOBAL ID DRAFT NEW YORK,GLOBAL ID DRAFT USA
ATTACH;FMTTYPE=image/jpeg:https://acrmessina1900.com/wp-content/uploads/2026/03/ACR-MESSINA-New-York-1-scaled.jpg
END:VEVENT
END:VCALENDAR